BEGIN:VCALENDAR
VERSION:2.0
PRODID:-//Community Theatre of Greensboro - ECPv6.15.20//NONSGML v1.0//EN
CALSCALE:GREGORIAN
METHOD:PUBLISH
X-ORIGINAL-URL:https://ctgso.org
X-WR-CALDESC:Events for Community Theatre of Greensboro
REFRESH-INTERVAL;VALUE=DURATION:PT1H
X-Robots-Tag:noindex
X-PUBLISHED-TTL:PT1H
BEGIN:VTIMEZONE
TZID:America/New_York
BEGIN:DAYLIGHT
TZOFFSETFROM:-0500
TZOFFSETTO:-0400
TZNAME:EDT
DTSTART:20240310T070000
END:DAYLIGHT
BEGIN:STANDARD
TZOFFSETFROM:-0400
TZOFFSETTO:-0500
TZNAME:EST
DTSTART:20241103T060000
END:STANDARD
BEGIN:DAYLIGHT
TZOFFSETFROM:-0500
TZOFFSETTO:-0400
TZNAME:EDT
DTSTART:20250309T070000
END:DAYLIGHT
BEGIN:STANDARD
TZOFFSETFROM:-0400
TZOFFSETTO:-0500
TZNAME:EST
DTSTART:20251102T060000
END:STANDARD
BEGIN:DAYLIGHT
TZOFFSETFROM:-0500
TZOFFSETTO:-0400
TZNAME:EDT
DTSTART:20260308T070000
END:DAYLIGHT
BEGIN:STANDARD
TZOFFSETFROM:-0400
TZOFFSETTO:-0500
TZNAME:EST
DTSTART:20261101T060000
END:STANDARD
END:VTIMEZONE
BEGIN:VEVENT
DTSTART;TZID=America/New_York:20250131T190000
DTEND;TZID=America/New_York:20250131T200000
DTSTAMP:20260424T150637
CREATED:20250130T182714Z
LAST-MODIFIED:20250130T182917Z
UID:46100-1738350000-1738353600@ctgso.org
SUMMARY:Disney's Winnie the Pooh Kids (OnStage and Inclusive)
DESCRIPTION:Welcome to the Hundred Acre Wood\, where Winnie the Pooh is once again in search of honey. Along the way\, he meets his pals\, Tigger\, Piglet\, Rabbit and Owl\, but soon discovers that Christopher Robin has been captured by the mysterious Backson! As they prepare for a rescue operation\, the animals learn about teamwork\, friendship and\, of course… sharing snacks. \nProduced as part of CTG’s OnStage and Inclusive Program \nJanuary 24th and January 31st @ 7pm \nJanuary 25th\, January 26th\, February 1st\, and February 2nd @ 2pm \n$15 General Admission (not including NC Sales Tax and $2.25 Facility Fee)
URL:https://ctgso.org/event/disneys-winnie-the-pooh-kids-onstage-and-inclusive/
LOCATION:CTG Starr Theatre\, 520 S. Elm Street\, Greensboro\, NC\, 27406\, United States
CATEGORIES:Mainstage Performances,OnStage and Inclusive
ATTACH;FMTTYPE=image/png:https://ctgso.org/wp-content/uploads/2025/01/Winnie-the-Pooh-11x17-Instagram-Post-7.png
GEO:36.066591;-79.791086
X-APPLE-STRUCTURED-LOCATION;VALUE=URI;X-ADDRESS=CTG Starr Theatre 520 S. Elm Street Greensboro NC 27406 United States;X-APPLE-RADIUS=500;X-TITLE=520 S. Elm Street:geo:-79.791086,36.066591
END:VEVENT
END:VCALENDAR