BEGIN:VCALENDAR
VERSION:2.0
PRODID:-//Community Theatre of Greensboro - ECPv6.15.20//NONSGML v1.0//EN
CALSCALE:GREGORIAN
METHOD:PUBLISH
X-WR-CALNAME:Community Theatre of Greensboro
X-ORIGINAL-URL:https://ctgso.org
X-WR-CALDESC:Events for Community Theatre of Greensboro
REFRESH-INTERVAL;VALUE=DURATION:PT1H
X-Robots-Tag:noindex
X-PUBLISHED-TTL:PT1H
BEGIN:VTIMEZONE
TZID:America/New_York
BEGIN:DAYLIGHT
TZOFFSETFROM:-0500
TZOFFSETTO:-0400
TZNAME:EDT
DTSTART:20220313T070000
END:DAYLIGHT
BEGIN:STANDARD
TZOFFSETFROM:-0400
TZOFFSETTO:-0500
TZNAME:EST
DTSTART:20221106T060000
END:STANDARD
BEGIN:DAYLIGHT
TZOFFSETFROM:-0500
TZOFFSETTO:-0400
TZNAME:EDT
DTSTART:20230312T070000
END:DAYLIGHT
BEGIN:STANDARD
TZOFFSETFROM:-0400
TZOFFSETTO:-0500
TZNAME:EST
DTSTART:20231105T060000
END:STANDARD
BEGIN:DAYLIGHT
TZOFFSETFROM:-0500
TZOFFSETTO:-0400
TZNAME:EDT
DTSTART:20240310T070000
END:DAYLIGHT
BEGIN:STANDARD
TZOFFSETFROM:-0400
TZOFFSETTO:-0500
TZNAME:EST
DTSTART:20241103T060000
END:STANDARD
END:VTIMEZONE
BEGIN:VEVENT
DTSTART;TZID=America/New_York:20230915T190000
DTEND;TZID=America/New_York:20230915T210000
DTSTAMP:20260425T202628
CREATED:20230816T141841Z
LAST-MODIFIED:20230816T142142Z
UID:44700-1694804400-1694811600@ctgso.org
SUMMARY:Be More Chill
DESCRIPTION:Music and Lyrics by Joe Iconis\nBook by Joe Tracz \nBased on the novel by Ned Vizzini \n\nJeremy Heere is just an average teenager. That is\, until he finds out about “The Squip\,” a tiny supercomputer that promises to bring him everything he desires most: a date with Christine\, an invite to the raddest party of the year and a chance to survive life in his suburban New Jersey high school. But is being the most popular guy in school worth the risk? Be More Chill is based on the novel by Ned Vizzini. \nTickets: $15 – $25 (plus NC Sales Tax & $1.85 Restoration Fee) \nSeptember 15th – 24th\, 2023 \nStarr Theatre \n520 S Elm Street\, Greensboro\, NC\, 27406 \nRATED PG-14:  Contains Mature Content\, themes & Language
URL:https://ctgso.org/event/be-more-chill/2023-09-15/
LOCATION:CTG Starr Theatre\, 520 S. Elm Street\, Greensboro\, NC\, 27406\, United States
CATEGORIES:Mainstage Performances
ATTACH;FMTTYPE=image/png:https://ctgso.org/wp-content/uploads/2023/08/Be-More-Chill-Instagram-Facebook.png
ORGANIZER;CN="Box Office":MAILTO:boxoffice@ctgso.org
GEO:36.066591;-79.791086
X-APPLE-STRUCTURED-LOCATION;VALUE=URI;X-ADDRESS=CTG Starr Theatre 520 S. Elm Street Greensboro NC 27406 United States;X-APPLE-RADIUS=500;X-TITLE=520 S. Elm Street:geo:-79.791086,36.066591
END:VEVENT
END:VCALENDAR