BEGIN:VCALENDAR
VERSION:2.0
PRODID:-//Community Theatre of Greensboro - ECPv6.15.20//NONSGML v1.0//EN
CALSCALE:GREGORIAN
METHOD:PUBLISH
X-ORIGINAL-URL:https://ctgso.org
X-WR-CALDESC:Events for Community Theatre of Greensboro
REFRESH-INTERVAL;VALUE=DURATION:PT1H
X-Robots-Tag:noindex
X-PUBLISHED-TTL:PT1H
BEGIN:VTIMEZONE
TZID:America/New_York
BEGIN:DAYLIGHT
TZOFFSETFROM:-0500
TZOFFSETTO:-0400
TZNAME:EDT
DTSTART:20250309T070000
END:DAYLIGHT
BEGIN:STANDARD
TZOFFSETFROM:-0400
TZOFFSETTO:-0500
TZNAME:EST
DTSTART:20251102T060000
END:STANDARD
BEGIN:DAYLIGHT
TZOFFSETFROM:-0500
TZOFFSETTO:-0400
TZNAME:EDT
DTSTART:20260308T070000
END:DAYLIGHT
BEGIN:STANDARD
TZOFFSETFROM:-0400
TZOFFSETTO:-0500
TZNAME:EST
DTSTART:20261101T060000
END:STANDARD
BEGIN:DAYLIGHT
TZOFFSETFROM:-0500
TZOFFSETTO:-0400
TZNAME:EDT
DTSTART:20270314T070000
END:DAYLIGHT
BEGIN:STANDARD
TZOFFSETFROM:-0400
TZOFFSETTO:-0500
TZNAME:EST
DTSTART:20271107T060000
END:STANDARD
END:VTIMEZONE
BEGIN:VEVENT
DTSTART;TZID=America/New_York:20260424T190000
DTEND;TZID=America/New_York:20260426T210000
DTSTAMP:20260423T152725
CREATED:20260416T193129Z
LAST-MODIFIED:20260416T193236Z
UID:46565-1777057200-1777237200@ctgso.org
SUMMARY:Seussical the Musical Jr.
DESCRIPTION:
URL:https://ctgso.org/event/seussical-the-musical-jr/2026-04-24/
LOCATION:CTG Starr Theatre\, 520 S. Elm Street\, Greensboro\, NC\, 27406\, United States
ORGANIZER;CN="Box Office":MAILTO:boxoffice@ctgso.org
GEO:36.066591;-79.791086
X-APPLE-STRUCTURED-LOCATION;VALUE=URI;X-ADDRESS=CTG Starr Theatre 520 S. Elm Street Greensboro NC 27406 United States;X-APPLE-RADIUS=500;X-TITLE=520 S. Elm Street:geo:-79.791086,36.066591
END:VEVENT
BEGIN:VEVENT
DTSTART;TZID=America/New_York:20260425T140000
DTEND;TZID=America/New_York:20260425T170000
DTSTAMP:20260423T152725
CREATED:20260416T193129Z
LAST-MODIFIED:20260416T193236Z
UID:46568-1777125600-1777136400@ctgso.org
SUMMARY:Seussical the Musical Jr.
DESCRIPTION:
URL:https://ctgso.org/event/seussical-the-musical-jr/2026-04-25/
LOCATION:CTG Starr Theatre\, 520 S. Elm Street\, Greensboro\, NC\, 27406\, United States
ORGANIZER;CN="Box Office":MAILTO:boxoffice@ctgso.org
GEO:36.066591;-79.791086
X-APPLE-STRUCTURED-LOCATION;VALUE=URI;X-ADDRESS=CTG Starr Theatre 520 S. Elm Street Greensboro NC 27406 United States;X-APPLE-RADIUS=500;X-TITLE=520 S. Elm Street:geo:-79.791086,36.066591
END:VEVENT
BEGIN:VEVENT
DTSTART;TZID=America/New_York:20260425T190000
DTEND;TZID=America/New_York:20260427T210000
DTSTAMP:20260423T152725
CREATED:20260416T193129Z
LAST-MODIFIED:20260416T193236Z
UID:46569-1777143600-1777323600@ctgso.org
SUMMARY:Seussical the Musical Jr.
DESCRIPTION:
URL:https://ctgso.org/event/seussical-the-musical-jr/2026-04-25/2/
LOCATION:CTG Starr Theatre\, 520 S. Elm Street\, Greensboro\, NC\, 27406\, United States
ORGANIZER;CN="Box Office":MAILTO:boxoffice@ctgso.org
GEO:36.066591;-79.791086
X-APPLE-STRUCTURED-LOCATION;VALUE=URI;X-ADDRESS=CTG Starr Theatre 520 S. Elm Street Greensboro NC 27406 United States;X-APPLE-RADIUS=500;X-TITLE=520 S. Elm Street:geo:-79.791086,36.066591
END:VEVENT
END:VCALENDAR